BEGIN:VCALENDAR
VERSION:2.0
PRODID:-//infosoud.pravnikovo.info//CZ
X-WR-CALNAME:3 C 82/2025
BEGIN:VEVENT
UID:20250507-4-3C82_2025@infosoud.pravnikovo.info
DTSTART:20250507T101500
DTEND:20250507T111500
SUMMARY:Vyhlášení rozsudku — 3 C 82/2025
LOCATION:dv. č. 310 / II. patro budova A
DESCRIPTION:Soud: Okresní soud Blansko\\nhttps://infosoud.pravnikovo.info/case?sp_zn=3C82_2025&court_code=OSJIMBK
STATUS:CONFIRMED
END:VEVENT
END:VCALENDAR
