BEGIN:VCALENDAR
VERSION:2.0
PRODID:-//infosoud.pravnikovo.info//CZ
X-WR-CALNAME:17 C 10/2020
BEGIN:VEVENT
UID:20200310-8-17C10_2020@infosoud.pravnikovo.info
DTSTART:20200310T140000
DTEND:20200310T150000
SUMMARY:Jednání — 17 C 10/2020
LOCATION:Lidická třída 20\, přízemí - dvůr č. dv. 150
DESCRIPTION:Soud: Okresní soud České Budějovice\\nhttps://infosoud.pravnikovo.info/case?sp_zn=17C10_2020&court_code=OSJICCB
STATUS:CONFIRMED
END:VEVENT
END:VCALENDAR
