BEGIN:VCALENDAR
VERSION:2.0
PRODID:-//infosoud.pravnikovo.info//CZ
X-WR-CALNAME:7 TO 208/2016
BEGIN:VEVENT
UID:20160602-5-7TO208_2016@infosoud.pravnikovo.info
DTSTART:20160602T003000
DTEND:20160602T013000
SUMMARY:Jednani — 7 TO 208/2016
LOCATION:149 audio 1. poschodí
DESCRIPTION:Soud: Krajský soud Ústí nad Labem\\nhttps://infosoud.pravnikovo.info/case?sp_zn=7TO208_2016&court_code=KSSCEUL
STATUS:CONFIRMED
END:VEVENT
END:VCALENDAR
